BEGIN:VCALENDAR
VERSION:2.0
PRODID:-//Auszeit - ECPv6.15.20//NONSGML v1.0//EN
CALSCALE:GREGORIAN
METHOD:PUBLISH
X-ORIGINAL-URL:https://auszeit-lauda.de
X-WR-CALDESC:Veranstaltungen für Auszeit
REFRESH-INTERVAL;VALUE=DURATION:PT1H
X-Robots-Tag:noindex
X-PUBLISHED-TTL:PT1H
BEGIN:VTIMEZONE
TZID:Europe/Berlin
BEGIN:DAYLIGHT
TZOFFSETFROM:+0100
TZOFFSETTO:+0200
TZNAME:CEST
DTSTART:20190331T010000
END:DAYLIGHT
BEGIN:STANDARD
TZOFFSETFROM:+0200
TZOFFSETTO:+0100
TZNAME:CET
DTSTART:20191027T010000
END:STANDARD
BEGIN:DAYLIGHT
TZOFFSETFROM:+0100
TZOFFSETTO:+0200
TZNAME:CEST
DTSTART:20200329T010000
END:DAYLIGHT
BEGIN:STANDARD
TZOFFSETFROM:+0200
TZOFFSETTO:+0100
TZNAME:CET
DTSTART:20201025T010000
END:STANDARD
BEGIN:DAYLIGHT
TZOFFSETFROM:+0100
TZOFFSETTO:+0200
TZNAME:CEST
DTSTART:20210328T010000
END:DAYLIGHT
BEGIN:STANDARD
TZOFFSETFROM:+0200
TZOFFSETTO:+0100
TZNAME:CET
DTSTART:20211031T010000
END:STANDARD
END:VTIMEZONE
BEGIN:VEVENT
DTSTART;TZID=Europe/Berlin:20200919T140000
DTEND;TZID=Europe/Berlin:20200919T170000
DTSTAMP:20260421T143851
CREATED:20200914T150015Z
LAST-MODIFIED:20220911T102342Z
UID:3828-1600524000-1600534800@auszeit-lauda.de
SUMMARY:Wir feiern Geburtstag!
DESCRIPTION:
URL:https://auszeit-lauda.de/veranstaltung/wir-feiern-geburtstag-3/
LOCATION:Auszeit – Kreativ- und Genusswerkstatt\, Marienstraße 5\, Lauda-Königshofen\, Baden-Württemberg\, 97922\, Deutschland
CATEGORIES:Kindergeburtstag,Private Veranstaltung
ORGANIZER;CN="Auszeit %E2%80%93 Kreativ- und Genusswerkstatt":MAILTO:info@auszeit-lauda.de
END:VEVENT
END:VCALENDAR