BEGIN:VCALENDAR
VERSION:2.0
PRODID:-//Auszeit - ECPv6.15.20//NONSGML v1.0//EN
CALSCALE:GREGORIAN
METHOD:PUBLISH
X-WR-CALNAME:Auszeit
X-ORIGINAL-URL:https://auszeit-lauda.de
X-WR-CALDESC:Veranstaltungen für Auszeit
REFRESH-INTERVAL;VALUE=DURATION:PT1H
X-Robots-Tag:noindex
X-PUBLISHED-TTL:PT1H
BEGIN:VTIMEZONE
TZID:Europe/Berlin
BEGIN:DAYLIGHT
TZOFFSETFROM:+0100
TZOFFSETTO:+0200
TZNAME:CEST
DTSTART:20190331T010000
END:DAYLIGHT
BEGIN:STANDARD
TZOFFSETFROM:+0200
TZOFFSETTO:+0100
TZNAME:CET
DTSTART:20191027T010000
END:STANDARD
BEGIN:DAYLIGHT
TZOFFSETFROM:+0100
TZOFFSETTO:+0200
TZNAME:CEST
DTSTART:20200329T010000
END:DAYLIGHT
BEGIN:STANDARD
TZOFFSETFROM:+0200
TZOFFSETTO:+0100
TZNAME:CET
DTSTART:20201025T010000
END:STANDARD
BEGIN:DAYLIGHT
TZOFFSETFROM:+0100
TZOFFSETTO:+0200
TZNAME:CEST
DTSTART:20210328T010000
END:DAYLIGHT
BEGIN:STANDARD
TZOFFSETFROM:+0200
TZOFFSETTO:+0100
TZNAME:CET
DTSTART:20211031T010000
END:STANDARD
END:VTIMEZONE
BEGIN:VEVENT
DTSTART;TZID=Europe/Berlin:20200314T160000
DTEND;TZID=Europe/Berlin:20200314T200000
DTSTAMP:20260423T195306
CREATED:20200110T142934Z
LAST-MODIFIED:20230205T121401Z
UID:3222-1584201600-1584216000@auszeit-lauda.de
SUMMARY:AUSGEBUCHT! Pasta Party (ab 10 Jahre)\, Sa. 14.03.2020
DESCRIPTION:Teenie-Kurs\, ab 10 Jahre\n\n„Jetzt sind einmal die Teenies dran: wir stellen selbst verschiedene Sorten Nudeln her\, machen passende Saucen und probieren diese dann am Ende zusammen.“\n\nBitte mitbringen: Schürze\n\nKursgebühr: 15\,00 € (einschl. Zutaten)\n\nAnmeldung
URL:https://auszeit-lauda.de/veranstaltung/pasta-party-ab-10-jahre-sa-14-03-2020/
LOCATION:Auszeit – Kreativ- und Genusswerkstatt\, Marienstraße 5\, Lauda-Königshofen\, Baden-Württemberg\, 97922\, Deutschland
CATEGORIES:Kinder-Kurs,Kochen,Private Veranstaltung
ORGANIZER;CN="Auszeit %E2%80%93 Kreativ- und Genusswerkstatt":MAILTO:info@auszeit-lauda.de
END:VEVENT
END:VCALENDAR